[Date Prev][Date Next][Thread Prev][Thread Next][Date Index][Thread Index] [ovmf test] 187672: all pass - PUSHED
flight 187672 ovmf real [real] http://logs.test-lab.xenproject.org/osstest/logs/187672/ Perfect :-) All tests in this flight passed as required version targeted for testing: ovmf 1197fb3383ddbe53d764cb9b3583c1738ac62a18 baseline version: ovmf babccb841dbb39de2b4485bdb63dcc5bb6122bd8 Last test of basis 187670 2024-09-12 06:41:28 Z 0 days Testing same since 187672 2024-09-12 09:13:22 Z 0 days 1 attempts ------------------------------------------------------------ People who touched revisions under test: Carsten Haitzler <carsten.haitzler@xxxxxxxxxxxx> jobs: build-amd64-xsm pass build-i386-xsm pass build-amd64 pass build-i386 pass build-amd64-libvirt pass build-i386-libvirt pass build-amd64-pvops pass build-i386-pvops pass test-amd64-amd64-xl-qemuu-ovmf-amd64 pass ------------------------------------------------------------ sg-report-flight on osstest.test-lab.xenproject.org logs: /home/logs/logs images: /home/logs/images Logs, config files, etc. are available at http://logs.test-lab.xenproject.org/osstest/logs Explanation of these reports, and of osstest in general, is at http://xenbits.xen.org/gitweb/?p=osstest.git;a=blob;f=README.email;hb=master http://xenbits.xen.org/gitweb/?p=osstest.git;a=blob;f=README;hb=master Test harness code can be found at http://xenbits.xen.org/gitweb?p=osstest.git;a=summary Pushing revision : To xenbits.xen.org:/home/xen/git/osstest/ovmf.git babccb841d..1197fb3383 1197fb3383ddbe53d764cb9b3583c1738ac62a18 -> xen-tested-master
|
![]() |
Lists.xenproject.org is hosted with RackSpace, monitoring our |