[Date Prev][Date Next][Thread Prev][Thread Next][Date Index][Thread Index] [ovmf test] 184322: all pass - PUSHED
flight 184322 ovmf real [real] http://logs.test-lab.xenproject.org/osstest/logs/184322/ Perfect :-) All tests in this flight passed as required version targeted for testing: ovmf 0765ee6cd36aef02236ae431a7097624d17762d9 baseline version: ovmf ebf378a1ada6d128dbf32aec76b3911895747bbb Last test of basis 184320 2024-01-11 12:12:48 Z 0 days Testing same since 184322 2024-01-11 15:41:27 Z 0 days 1 attempts ------------------------------------------------------------ People who touched revisions under test: Yang Wang <wangyang@xxxxxxxxxx> 王洋 <wangyang@xxxxxxxxxx> jobs: build-amd64-xsm pass build-i386-xsm pass build-amd64 pass build-i386 pass build-amd64-libvirt pass build-i386-libvirt pass build-amd64-pvops pass build-i386-pvops pass test-amd64-amd64-xl-qemuu-ovmf-amd64 pass test-amd64-i386-xl-qemuu-ovmf-amd64 pass ------------------------------------------------------------ sg-report-flight on osstest.test-lab.xenproject.org logs: /home/logs/logs images: /home/logs/images Logs, config files, etc. are available at http://logs.test-lab.xenproject.org/osstest/logs Explanation of these reports, and of osstest in general, is at http://xenbits.xen.org/gitweb/?p=osstest.git;a=blob;f=README.email;hb=master http://xenbits.xen.org/gitweb/?p=osstest.git;a=blob;f=README;hb=master Test harness code can be found at http://xenbits.xen.org/gitweb?p=osstest.git;a=summary Pushing revision : To xenbits.xen.org:/home/xen/git/osstest/ovmf.git ebf378a1ad..0765ee6cd3 0765ee6cd36aef02236ae431a7097624d17762d9 -> xen-tested-master
|
![]() |
Lists.xenproject.org is hosted with RackSpace, monitoring our |