[Date Prev][Date Next][Thread Prev][Thread Next][Date Index][Thread Index] [ovmf test] 167513: all pass - PUSHED
flight 167513 ovmf real [real] http://logs.test-lab.xenproject.org/osstest/logs/167513/ Perfect :-) All tests in this flight passed as required version targeted for testing: ovmf 9ec2cc1f3138ef9314314df29fc6ce0aa5e120b9 baseline version: ovmf de9e5b7dc721d4ca319c0455cf83577347e0abef Last test of basis 167487 2021-12-20 04:11:39 Z 2 days Testing same since 167513 2021-12-22 05:41:33 Z 0 days 1 attempts ------------------------------------------------------------ People who touched revisions under test: Chasel Chiu <chasel.chiu@xxxxxxxxx> jobs: build-amd64-xsm pass build-i386-xsm pass build-amd64 pass build-i386 pass build-amd64-libvirt pass build-i386-libvirt pass build-amd64-pvops pass build-i386-pvops pass test-amd64-amd64-xl-qemuu-ovmf-amd64 pass test-amd64-i386-xl-qemuu-ovmf-amd64 pass ------------------------------------------------------------ sg-report-flight on osstest.test-lab.xenproject.org logs: /home/logs/logs images: /home/logs/images Logs, config files, etc. are available at http://logs.test-lab.xenproject.org/osstest/logs Explanation of these reports, and of osstest in general, is at http://xenbits.xen.org/gitweb/?p=osstest.git;a=blob;f=README.email;hb=master http://xenbits.xen.org/gitweb/?p=osstest.git;a=blob;f=README;hb=master Test harness code can be found at http://xenbits.xen.org/gitweb?p=osstest.git;a=summary Pushing revision : To xenbits.xen.org:/home/xen/git/osstest/ovmf.git de9e5b7dc7..9ec2cc1f31 9ec2cc1f3138ef9314314df29fc6ce0aa5e120b9 -> xen-tested-master
|
![]() |
Lists.xenproject.org is hosted with RackSpace, monitoring our |